BEGIN:VCALENDAR

VERSION:2.0

PRODID:-//hacksw/handcal//NONSGML v1.0//EN

BEGIN:VEVENT

UID:8fe218da5cd4b4f6b28c35b73d7fa026

DTSTAMP:20260424T144640Z

DTSTART:20210227T105000

DTEND:20210227T111500

SUMMARY: - 

LOCATION:

END:VEVENT

END:VCALENDAR