BEGIN:VCALENDAR

VERSION:2.0

PRODID:-//hacksw/handcal//NONSGML v1.0//EN

BEGIN:VEVENT

UID:283f7da0728787e8cfafa0e87ba488b2

DTSTAMP:20260424T144620Z

DTSTART:20210227T100000

DTEND:20210227T102500

SUMMARY: - 

LOCATION:

END:VEVENT

END:VCALENDAR