BEGIN:VCALENDAR

VERSION:2.0

PRODID:-//hacksw/handcal//NONSGML v1.0//EN

BEGIN:VEVENT

UID:b70fb97f0f831c677c12a890f1c7cc4f

DTSTAMP:20260424T144612Z

DTSTART:20210227T113000

DTEND:20210227T120000

SUMMARY: - 

LOCATION:

END:VEVENT

END:VCALENDAR